BEGIN:VCALENDAR
VERSION:2.0
PRODID:-//Euforia - ECPv6.15.16//NONSGML v1.0//EN
CALSCALE:GREGORIAN
METHOD:PUBLISH
X-ORIGINAL-URL:https://euforia.org.es
X-WR-CALDESC:Eventos para Euforia
REFRESH-INTERVAL;VALUE=DURATION:PT1H
X-Robots-Tag:noindex
X-PUBLISHED-TTL:PT1H
BEGIN:VTIMEZONE
TZID:Europe/Madrid
BEGIN:DAYLIGHT
TZOFFSETFROM:+0100
TZOFFSETTO:+0200
TZNAME:CEST
DTSTART:20240331T010000
END:DAYLIGHT
BEGIN:STANDARD
TZOFFSETFROM:+0200
TZOFFSETTO:+0100
TZNAME:CET
DTSTART:20241027T010000
END:STANDARD
BEGIN:DAYLIGHT
TZOFFSETFROM:+0100
TZOFFSETTO:+0200
TZNAME:CEST
DTSTART:20250330T010000
END:DAYLIGHT
BEGIN:STANDARD
TZOFFSETFROM:+0200
TZOFFSETTO:+0100
TZNAME:CET
DTSTART:20251026T010000
END:STANDARD
BEGIN:DAYLIGHT
TZOFFSETFROM:+0100
TZOFFSETTO:+0200
TZNAME:CEST
DTSTART:20260329T010000
END:DAYLIGHT
BEGIN:STANDARD
TZOFFSETFROM:+0200
TZOFFSETTO:+0100
TZNAME:CET
DTSTART:20261025T010000
END:STANDARD
BEGIN:DAYLIGHT
TZOFFSETFROM:+0100
TZOFFSETTO:+0200
TZNAME:CEST
DTSTART:20270328T010000
END:DAYLIGHT
BEGIN:STANDARD
TZOFFSETFROM:+0200
TZOFFSETTO:+0100
TZNAME:CET
DTSTART:20271031T010000
END:STANDARD
END:VTIMEZONE
BEGIN:VEVENT
DTSTART;TZID=Europe/Madrid:20250227T093000
DTEND;TZID=Europe/Madrid:20250227T180000
DTSTAMP:20260422T020622
CREATED:20250123T161149Z
LAST-MODIFIED:20250123T161149Z
UID:23750-1740648600-1740679200@euforia.org.es
SUMMARY:Jornadas sobre protección de Infancias y Adolescencias
DESCRIPTION:Jornadas sobre protección de Infancias y Adolescencias desde una perspectiva de derechos humanos y feminismo interseccional\nPara promover y difundir los derechos humanos de las infancias y adolescencias para contribuir a unas vidas libres de violencias\, dignas y no discriminatorias. \nJornada gratuita bajo inscripción previa: aquí
URL:https://euforia.org.es/evento/jornadas-sobre-proteccion-de-infancias-y-adolescencias/
LOCATION:La Traviesa Espacion Cooperativo\, Madrid\, Duque de Fernán Núñez\, 2\, Centro\, Madrid\, Madrid\, 28012
CATEGORIES:Jornadas
ATTACH;FMTTYPE=image/jpeg:https://euforia.org.es/wp-content/uploads/Jornadas-sobre-proteccion-de-infancias-y-adolescencias-810.jpg
ORGANIZER;CN="otro tiempo":MAILTO:comunicacion@otrotiempo.org
END:VEVENT
BEGIN:VEVENT
DTSTART;TZID=Europe/Madrid:20250409T100000
DTEND;TZID=Europe/Madrid:20250409T140000
DTSTAMP:20260422T020622
CREATED:20250407T183717Z
LAST-MODIFIED:20250407T183717Z
UID:24047-1744192800-1744207200@euforia.org.es
SUMMARY:XVIII JORNADAS SIGE
DESCRIPTION:Seminario Interdisciplinar de Género y Educación\nReflexiones y propuestas sobre las realidades trans y no binarias en el ámbito educativo. \nEl miércoles 9 de abril de 2025 en la Sala de Conferencias de la Facultad de Educación tendrán lugar las XVIII Jornadas SIGE. ¡¡Te esperamos!! \n \n  \n \n  \nEl “Seminario Interdisciplinar Género y Educación” (SIGE) es un grupo de trabajo de carácter interdisciplinar e interdepartamental con Sede en la Facultad de Educación de la  Universidad Complutense de Madrid\, dedicado a los estudios de género\, las mujeres y el feminismo\, específicamente en el ámbito educativo. \n  \n  \n 
URL:https://euforia.org.es/evento/xviii-jornadas-sige/
LOCATION:Facultad de Educación Universidad Complutense\, C. del Rector Royo-Villanova\, 1\, Moncloa - Aravaca\, Madrid\, Madrid\, 28040
CATEGORIES:Jornadas
ATTACH;FMTTYPE=image/jpeg:https://euforia.org.es/wp-content/uploads/XVIII-Jornadas-SIGE.jpg
END:VEVENT
BEGIN:VEVENT
DTSTART;TZID=Europe/Madrid:20250426T190000
DTEND;TZID=Europe/Madrid:20250426T203000
DTSTAMP:20260422T020622
CREATED:20250415T162849Z
LAST-MODIFIED:20250421T133313Z
UID:24110-1745694000-1745699400@euforia.org.es
SUMMARY:LO QUE NO SE NOMBRA\, ¿EXISTE?
DESCRIPTION:LO QUE NO SE NOMBRA\, ¿EXISTE?\nEl próximo 26 de abril a las 19h os esperamos en el Centro Cultural Pedro Lorenzo de Soto del Real para asistir a esta charla sobre cómo realizar un acompañamiento respetuoso de las identidades trans\, con la participación de Saida García Casuso\, Vicepresidenta de la asociación Euforia. Familias Trans-Aliadas. \n \n 
URL:https://euforia.org.es/evento/lo-que-no-se-nombra-existe/
LOCATION:Centro Cultural Pedro Lorenzo\, calle Real\, 6\, Soto del Real\, Madrid\, 28791
CATEGORIES:Ponencias y mesas redondas
ATTACH;FMTTYPE=image/jpeg:https://euforia.org.es/wp-content/uploads/Diseno-sin-titulo.jpg
END:VEVENT
BEGIN:VEVENT
DTSTART;TZID=Europe/Madrid:20250510T180000
DTEND;TZID=Europe/Madrid:20250510T200000
DTSTAMP:20260422T020622
CREATED:20250501T134359Z
LAST-MODIFIED:20250505T174711Z
UID:24134-1746900000-1746907200@euforia.org.es
SUMMARY:LevantaT contra la transfobia. Frente al odio RebelaT
DESCRIPTION:LevantaT contra la transfobia. Frente al odio RebelaT\nEl sábado 10 de mayo saldremos a las 18:00 de la plaza de Pedro Zerolo de Madrid para manifestarnos contra la transfobia. ¡¡Únete!! 💪🏼💪🏼🏳️‍⚧️🏳️‍⚧️
URL:https://euforia.org.es/evento/levantat-contra-la-transfobia-frente-al-odio-rebelat/
LOCATION:Plaza de Pedro Zerolo\, Madrid\, Plaza de Pedro Zerolo\, Madrid
CATEGORIES:Puntos de encuentro
ATTACH;FMTTYPE=image/jpeg:https://euforia.org.es/wp-content/uploads/LevantaT-contra-la-transfobia-810-1.jpg
END:VEVENT
BEGIN:VEVENT
DTSTART;TZID=Europe/Madrid:20250531T120000
DTEND;TZID=Europe/Madrid:20250531T140000
DTSTAMP:20260422T020623
CREATED:20250514T135720Z
LAST-MODIFIED:20250514T135724Z
UID:24163-1748692800-1748700000@euforia.org.es
SUMMARY:Sensibilización online enfocada a profesionales (docencia\, ámbito social) 31 mayo 2025
DESCRIPTION:‼️Sensibilización online enfocada a profesionales (docencia\, ámbito social) – Sábado\, 31 de mayo 2025🏳️‍⚧️📚\n➡️ ¿Eres docente\, educadora\, trabajadora social… y crees que necesitas información para aterrizar cuestiones relativas a la diversidad sexo genérica? \n🛬 ¿Eres docente\, educadora\, trabajadora social… y en tu grupo\, espacio\, servicio… hay una o varias personas trans y no sabes cómo trabajar las corporalidades\, las identidades o las orientaciones de una forma respetuosa? \n☮️ ¿Eres docente\, educadora\, trabajadora social… y tu centro de trabajo no te facilita este tipo de formación? 😰 \nCertificado de participación y aprovechamiento10€ (Gratuita para Teamers\, Simpatizantes y Aliadas de EUFORIA FTA. ) \nINDICACIONES1. Rellena el formulario2. Si ya eres Teamer\, Simpatizante o Aliada escríbenos a info@euforia.org.es3. Si no eres Teamer\, Simpatizante o Aliada y quieres serlo inscríbete en los formularios que encontrarás en https://euforia.org.es/asociacion/como-unirse/ y escríbenos a info@euforia.org.es4. Si no eres Teamer\, Simpatizante o Aliada y prefieres abonar los 10€ \, haz el ingreso o la transferencia a la cuenta ES15 2100 3177 8413 0041 6445 de CaixaBank (Concepto «Sensibilización + Nombre y apellidos usados en la inscripción») y envía el justificante a info@euforia.org.es5. Si no eres Teamer\, Simpatizante o Aliada y no puedes asumir el pago de los 10€\, escríbenos a info@euforia.org \nSi quieres más información de cómo hacerte Teamer\, Simpatizante o Aliada de EUFORIA FTA. escríbenos! \n 
URL:https://euforia.org.es/evento/sensibilizacion-online-31-mayo-2025/
LOCATION:Online
CATEGORIES:Talleres
ATTACH;FMTTYPE=image/jpeg:https://euforia.org.es/wp-content/uploads/Sensibilizacion-online-31-mayo-2025-810.jpg
ORGANIZER;CN="Euforia FTA":MAILTO:info@euforia.org.es
END:VEVENT
BEGIN:VEVENT
DTSTART;TZID=Europe/Madrid:20250613T183000
DTEND;TZID=Europe/Madrid:20250614T210000
DTSTAMP:20260422T020623
CREATED:20250604T142524Z
LAST-MODIFIED:20250604T143125Z
UID:24277-1749839400-1749934800@euforia.org.es
SUMMARY:ZINENTIENDO - Orgullo LGTBIQA+ en el Valle de Benasque
DESCRIPTION:ZINENTIENDO\nMuestra internacional de cine lésbico\, gai\, trans\, bisexual\, queer e intersex a la que puedes asistir el viernes 13 y el sábado 14 de junio de 2025 en el Valle de Benasque. \n¡¡Te esperamos!! 📽️🍿🏳️‍🌈🏳️‍⚧️
URL:https://euforia.org.es/evento/zinentiendo-orgullo-lgtbiqa-en-el-valle-de-benasque/
LOCATION:Centro Cultural de Castejón de Sos\, C. Valle Sositana\, 10\, Castejón de Sos\, Huesca\, 22466\, Spain
CATEGORIES:Actividades
ATTACH;FMTTYPE=image/jpeg:https://euforia.org.es/wp-content/uploads/Zinentiendo-810.jpg
END:VEVENT
BEGIN:VEVENT
DTSTART;TZID=Europe/Madrid:20250628T200000
DTEND;TZID=Europe/Madrid:20250628T220000
DTSTAMP:20260422T020623
CREATED:20250616T083729Z
LAST-MODIFIED:20250616T083729Z
UID:24378-1751140800-1751148000@euforia.org.es
SUMMARY:Manifestación Orgullo Crítico Madrid 2025
DESCRIPTION:Manifestación Orgullo Crítico Madrid 2025\n¡¡El sábado 28 de junio te esperamos en la manifestación del Orgullo Crítico de Madrid!! 🏳️‍🌈🏳️‍⚧️🏳️‍🌈🏳️‍⚧️ \nArrancaremos del metro Avenida de Guadalajara y terminaremos en la plaza de Alsacia.
URL:https://euforia.org.es/evento/manifestacion-orgullo-critico-madrid-2025/
LOCATION:Avenida de Guadalajara\, Madrid\, Salida metro Avenida de Guadalajara\, Madrid
CATEGORIES:Puntos de encuentro
ATTACH;FMTTYPE=image/jpeg:https://euforia.org.es/wp-content/uploads/Orgullo-critico-2025.jpg
END:VEVENT
BEGIN:VEVENT
DTSTART;TZID=Europe/Madrid:20250628T200000
DTEND;TZID=Europe/Madrid:20250628T220000
DTSTAMP:20260422T020623
CREATED:20250621T155757Z
LAST-MODIFIED:20250621T155757Z
UID:24394-1751140800-1751148000@euforia.org.es
SUMMARY:ORGULLO LGTBQIA+ BURGOS 2025
DESCRIPTION:ORGULLO LGTBQIA+ BURGOS 2025\nEl próximo 28 de junio a las 20:00 desde el Teatro Principal de Burgos 🏳️‍🌈🏳️‍⚧️🏳️‍🌈🏳️‍⚧️ \n¡¡¡Te esperamos!!! \n \n 
URL:https://euforia.org.es/evento/orgullo-lgtbqia-burgos-2025/
LOCATION:Teatro Principal de Burgos\, Plaza del Mio Cid\, Burgos\, 09003\, Burgos
CATEGORIES:Puntos de encuentro
ATTACH;FMTTYPE=image/jpeg:https://euforia.org.es/wp-content/uploads/ORGULLO-BURGOS-2025-810.jpg
END:VEVENT
BEGIN:VEVENT
DTSTART;TZID=Europe/Madrid:20260218T090000
DTEND;TZID=Europe/Madrid:20260218T093000
DTSTAMP:20260422T020623
CREATED:20260204T154825Z
LAST-MODIFIED:20260216T085520Z
UID:24899-1771405200-1771407000@euforia.org.es
SUMMARY:Entrevista a Euforia en RNE
DESCRIPTION:Entrevista a Euforia en RNE\nEl 18 de febrero en el programa «Mañana Más» de RNE entrevistarán a Natalia Aventín\, presidenta de Euforia Familias Trans-Aliadas. \nSe podrá seguir en directo el programa «Mañana Más» en la app de RNE. \n 
URL:https://euforia.org.es/evento/entrevista-a-euforia-en-rne/
LOCATION:Toledo
CATEGORIES:Entrevista
ATTACH;FMTTYPE=image/jpeg:https://euforia.org.es/wp-content/uploads/Entrevista-a-Euforia-en-RNE.jpg
END:VEVENT
BEGIN:VEVENT
DTSTART;TZID=Europe/Madrid:20260312T120000
DTEND;TZID=Europe/Madrid:20260312T130000
DTSTAMP:20260422T020623
CREATED:20260315T172441Z
LAST-MODIFIED:20260315T172529Z
UID:25039-1773316800-1773320400@euforia.org.es
SUMMARY:Abordaje en la infancia y adolescencia trans
DESCRIPTION:Abordaje en la infancia y adolescencia trans\nEl jueves 12 de marzo a las 12:00 Natalia Aventín Ballarín\, presidenta de Euforia Familias Trans-Aliadas\, participará en la mesa «Abordaje en la infancia y adolescencia trans«\, dentro de la Jornada formativa para Mejora de la Asistencia Sanitaria a Personas Trans que organiza el Hospital Clínico Universitario de Zaragoza. \n \n 
URL:https://euforia.org.es/evento/abordaje-en-la-infancia-y-adolescencia-trans/
LOCATION:Hospital Clínico Universitario de Zaragaza
CATEGORIES:Ponencias y mesas redondas
ATTACH;FMTTYPE=image/jpeg:https://euforia.org.es/wp-content/uploads/Abordaje-en-la-infancia-y-adolescencia-trans.jpeg
END:VEVENT
BEGIN:VEVENT
DTSTART;TZID=Europe/Madrid:20260313T180000
DTEND;TZID=Europe/Madrid:20260313T193000
DTSTAMP:20260422T020623
CREATED:20260204T161420Z
LAST-MODIFIED:20260204T161758Z
UID:24913-1773424800-1773430200@euforia.org.es
SUMMARY:32º CONGRESO ANDALUZ DE MEDICINA FAMILIAR Y COMUNITARIA
DESCRIPTION:32º CONGRESO ANDALUZ DE MEDICINA FAMILIAR Y COMUNITARIA\nEuforia Familias Trans-Aliadas participará en la mesa redonda «Atención integral al paciente trans en Atención Primaria» el viernes 13 de marzo de 18:00 a 19:30 en el 32º CONGRESO ANDALUZ DE MEDICINA FAMILIAR Y COMUNITARIA. \n 
URL:https://euforia.org.es/evento/32-congreso-andaluz-de-medicina-familiar-y-comunitaria/
LOCATION:Sala Playamar\, Palacio de Congresos de Torremolinos\, Málaga\, c/ México\, 3\, Torremolinos\, Málaga\, 29620
CATEGORIES:Ponencias y mesas redondas
ATTACH;FMTTYPE=image/jpeg:https://euforia.org.es/wp-content/uploads/Congreso-andaluz-de-medicina-familiar-y-comunitaria-810.jpg
END:VEVENT
BEGIN:VEVENT
DTSTART;TZID=Europe/Madrid:20260323T130000
DTEND;TZID=Europe/Madrid:20260323T140000
DTSTAMP:20260422T020623
CREATED:20260319T172145Z
LAST-MODIFIED:20260319T172155Z
UID:25063-1774270800-1774274400@euforia.org.es
SUMMARY:Desaprendiendo para aprender. Acompañamiento respetuoso a las infancias y juventudes trans
DESCRIPTION:Desaprendiendo para aprender. Acompañamiento respetuoso a las infancias y juventudes trans\nEl lunes 23 de marzo a las 13h\, Euforia Familias Trans-Aliadas participará en la charla «Desaprendiendo para aprender. Acompañamiento respetuoso a las infancias y juventudes trans» dentro de la Jornada de Visibilidad Trans en la Universidad que organiza la UCLM en Talavera de la Reina. \n \n 
URL:https://euforia.org.es/evento/desaprendiendo-para-aprender/
LOCATION:Facultad de Ciencias de la Salud de la UCLM\, Av. Real Fábrica de Sedas\, s/n\, Talavera de la Reina\, Toledo\, 45600
CATEGORIES:Ponencias y mesas redondas
ATTACH;FMTTYPE=image/jpeg:https://euforia.org.es/wp-content/uploads/Visibilidad-trans-en-la-universidad-UCLM.jpg
END:VEVENT
END:VCALENDAR